BEGIN:VCALENDAR
VERSION:2.0
PRODID:-//Tukios.com/
BEGIN:VEVENT
UID:ba89dde9-f4d8-4a7a-a6e4-a702e59a8f20@www.cumberlandchapels.com
DTSTAMP:20260425T185552Z
DTSTART:20260430T173000Z
DTEND:20260430T183000Z
SUMMARY:Burial
DESCRIPTION:Prayers will take place outdoor at the gravesite.
URL:https://www.cumberlandchapels.com/obituaries/therese-thurber
LOCATION: 8600 N Milwaukee Ave  Niles IL 60714
GEO:42.0375042;-87.8242318
END:VEVENT
END:VCALENDAR