BEGIN:VCALENDAR
VERSION:2.0
PRODID:-//Tukios.com/
BEGIN:VEVENT
UID:69127971-c846-4d89-8bd3-d47ae5a2a43d@www.cumberlandchapels.com
DTSTAMP:20260425T185115Z
DTSTART:20260429T200000Z
DTEND:20260430T010000Z
SUMMARY:Visitation
DESCRIPTION:
URL:https://www.cumberlandchapels.com/obituaries/therese-thurber
LOCATION:Cumberland Chapels 8300 W Lawrence Ave  Norridge IL 60706
GEO:41.9669871;-87.8342895
END:VEVENT
END:VCALENDAR