BEGIN:VCALENDAR
VERSION:2.0
PRODID:-//Tukios.com/
BEGIN:VEVENT
UID:f3edbab2-95ae-4d62-bbcb-355522f092d1@www.cumberlandchapels.com
DTSTAMP:20260425T184917Z
DTSTART:20260430T160000Z
DTEND:20260430T170000Z
SUMMARY:Mass
DESCRIPTION:
URL:https://www.cumberlandchapels.com/obituaries/therese-thurber
LOCATION:Our Lady, Mother of the Church 8747 West Lawrence Avenue  
	Chicago IL 60656
GEO:41.9661141;-87.8455108
END:VEVENT
END:VCALENDAR