BEGIN:VCALENDAR
VERSION:2.0
PRODID:-//Tukios.com/
BEGIN:VEVENT
UID:e0590e82-23ea-444a-ac3a-73d902212665@www.cumberlandchapels.com
DTSTAMP:20260425T185331Z
DTSTART:20260430T150000Z
DTEND:20260430T153000Z
SUMMARY:Prayers and Final Viewing
DESCRIPTION:
URL:https://www.cumberlandchapels.com/obituaries/therese-thurber
LOCATION: 8300 W Lawrence Ave  Norridge IL 60706
GEO:41.9669871;-87.8342895
END:VEVENT
END:VCALENDAR