BEGIN:VCALENDAR
VERSION:2.0
PRODID:-//Tukios.com/
BEGIN:VEVENT
UID:477bd453-baba-44e1-a679-bd79f72e0215@www.cumberlandchapels.com
DTSTAMP:20260419T232654Z
DTSTART:20260425T161500Z
DTEND:20260425T164500Z
SUMMARY:Graveside Service
DESCRIPTION:Prayers will take place outdoor at the gravesite.
URL:https://www.cumberlandchapels.com/obituaries/robert-kulesza
LOCATION: 7777 W Irving Park Rd  Chicago IL 60634
GEO:41.9524476;-87.8207536
END:VEVENT
END:VCALENDAR