BEGIN:VCALENDAR
VERSION:2.0
PRODID:-//Tukios.com/
BEGIN:VEVENT
UID:12f4505e-baad-4d41-b792-893f576e245d@www.cumberlandchapels.com
DTSTAMP:20260419T232654Z
DTSTART:20260424T200000Z
DTEND:20260425T010000Z
SUMMARY:Visitation
DESCRIPTION:
URL:https://www.cumberlandchapels.com/obituaries/robert-kulesza
LOCATION: 8300 W Lawrence Ave  Norridge IL 60706
GEO:41.9669263;-87.8343298
END:VEVENT
END:VCALENDAR