BEGIN:VCALENDAR
VERSION:2.0
PRODID:-//Tukios.com/
BEGIN:VEVENT
UID:ca16394e-1c6d-458c-ac20-4b4f825420c7@www.cumberlandchapels.com
DTSTAMP:20260419T232654Z
DTSTART:20260425T153000Z
DTEND:20260425T160000Z
SUMMARY:Funeral Service
DESCRIPTION:
URL:https://www.cumberlandchapels.com/obituaries/robert-kulesza
LOCATION:Cumberland Chapels 8300 W Lawrence Ave  Norridge IL 60706
GEO:41.9669263;-87.8343298
END:VEVENT
END:VCALENDAR