BEGIN:VCALENDAR
VERSION:2.0
PRODID:-//Tukios.com/
BEGIN:VEVENT
UID:bd7b1b5d-1ecf-407e-b4c5-d1b1b50cd737@www.cumberlandchapels.com
DTSTAMP:20260421T233000Z
DTSTART:20260424T153000Z
DTEND:20260424T163000Z
SUMMARY:Funeral Service
DESCRIPTION:
URL:https://www.cumberlandchapels.com/obituaries/maria-makos
LOCATION:Cumberland Chapels (FRIEL FUNERAL DIRECTORS) 8300 West Lawrence 
	Avenue  Norridge IL 60706
GEO:41.9669643;-87.8342915
END:VEVENT
END:VCALENDAR