BEGIN:VCALENDAR
VERSION:2.0
PRODID:-//Tukios.com/
BEGIN:VEVENT
UID:906f651d-76ab-4a20-96e3-b7802a7d313c@www.cumberlandchapels.com
DTSTAMP:20260421T232757Z
DTSTART:20260424T160000Z
DTEND:20260424T170000Z
SUMMARY:Mass
DESCRIPTION:
URL:https://www.cumberlandchapels.com/obituaries/maria-makos
LOCATION: 7958 W Foster Ave  Chicago IL 60656
GEO:41.9742558;-87.8268444
END:VEVENT
END:VCALENDAR