BEGIN:VCALENDAR
VERSION:2.0
PRODID:-//Tukios.com/
BEGIN:VEVENT
UID:cf866bbb-1f69-4c90-91f2-77b5fab30fe5@www.cumberlandchapels.com
DTSTAMP:20260425T004106Z
DTSTART:20260427T153000Z
DTEND:20260427T163000Z
SUMMARY:Visitation
DESCRIPTION:
URL:https://www.cumberlandchapels.com/obituaries/lorenzo-bellantuono
LOCATION: 4150 N. Wagner Ave.  Schiller Park IL 60176
GEO:41.9541556;-87.8690066
END:VEVENT
END:VCALENDAR