BEGIN:VCALENDAR
VERSION:2.0
PRODID:-//Tukios.com/
BEGIN:VEVENT
UID:7cad61a6-a992-4ec1-897f-dd874157c524@www.cumberlandchapels.com
DTSTAMP:20260425T004041Z
DTSTART:20260427T190000Z
DTEND:20260427T200000Z
SUMMARY:Burial
DESCRIPTION:
URL:https://www.cumberlandchapels.com/obituaries/lorenzo-bellantuono
LOCATION: 1185 W Algonquin Rd  Palatine IL 60067
GEO:42.0753701;-88.0718864
END:VEVENT
END:VCALENDAR