BEGIN:VCALENDAR
VERSION:2.0
PRODID:-//Tukios.com/
BEGIN:VEVENT
UID:928073e0-ce61-40f6-be29-4d0afaf1e058@www.cumberlandchapels.com
DTSTAMP:20260425T004622Z
DTSTART:20260427T163000Z
DTEND:20260427T173000Z
SUMMARY:Mass
DESCRIPTION:
URL:https://www.cumberlandchapels.com/obituaries/lorenzo-bellantuono
LOCATION: 4150 N. Wagner Ave.  Schiller Park IL 60176
GEO:41.9541556;-87.8690066
END:VEVENT
END:VCALENDAR