BEGIN:VCALENDAR
VERSION:2.0
PRODID:-//Tukios.com/
BEGIN:VEVENT
UID:4305ca28-e845-489e-9098-7085f1b411a3@www.cumberlandchapels.com
DTSTAMP:20260424T130559Z
DTSTART:20260502T213000Z
DTEND:20260502T223000Z
SUMMARY:Prayer Service
DESCRIPTION:
URL:https://www.cumberlandchapels.com/obituaries/gianni-arato
LOCATION:Cumberland Chapels 8300 W Lawrence Ave  Norridge IL 60706
GEO:41.9669871;-87.8342895
END:VEVENT
END:VCALENDAR