BEGIN:VCALENDAR
VERSION:2.0
PRODID:-//Tukios.com/
BEGIN:VEVENT
UID:1d24fce7-56f0-4c5c-8bae-95ee1b402269@www.cumberlandchapels.com
DTSTAMP:20260424T130646Z
DTSTART:20260502T180000Z
DTEND:20260502T220000Z
SUMMARY:Visitation
DESCRIPTION:
URL:https://www.cumberlandchapels.com/obituaries/gianni-arato
LOCATION:Cumberland Chapels 8300 W Lawrence Ave  Norridge IL 60706
GEO:41.9669871;-87.8342895
END:VEVENT
END:VCALENDAR