BEGIN:VCALENDAR
VERSION:2.0
PRODID:-//Tukios.com/
BEGIN:VEVENT
UID:af2eba23-a42e-4bad-9268-8b1f9b5f80c1@www.cumberlandchapels.com
DTSTAMP:20260421T201846Z
DTSTART:20260427T150000Z
DTEND:20260427T160000Z
SUMMARY:Lying in State
DESCRIPTION:
URL:https://www.cumberlandchapels.com/obituaries/frank-fergus
LOCATION:St. Luke Church 1500 W. Belmont Ave.  Chicago IL 60657
GEO:41.9400002;-87.6665626
END:VEVENT
END:VCALENDAR