BEGIN:VCALENDAR
VERSION:2.0
PRODID:-//Tukios.com/
BEGIN:VEVENT
UID:63c07390-73f5-4720-85e5-b585abdb639a@www.cumberlandchapels.com
DTSTAMP:20260421T202147Z
DTSTART:20260427T160000Z
DTEND:20260427T170000Z
SUMMARY:Funeral Service
DESCRIPTION:
URL:https://www.cumberlandchapels.com/obituaries/frank-fergus
LOCATION:Saint Luke Church 1500 W Belmont Ave  Chicago IL 60657
GEO:41.9400002;-87.6665626
END:VEVENT
END:VCALENDAR