BEGIN:VCALENDAR
VERSION:2.0
PRODID:-//Tukios.com/
BEGIN:VEVENT
UID:8d3a21e9-e86c-4845-8c71-e689ffbadc73@www.cumberlandchapels.com
DTSTAMP:20260422T173628Z
DTSTART:20260425T170000Z
DTEND:20260425T180000Z
SUMMARY:Funeral Service
DESCRIPTION:
URL:https://www.cumberlandchapels.com/obituaries/emily-converso
LOCATION:Cumberland Chapels 8300 W Lawrence Ave  Norridge IL 60706
GEO:41.9669263;-87.8343298
END:VEVENT
END:VCALENDAR