BEGIN:VCALENDAR
VERSION:2.0
PRODID:-//Tukios.com/
BEGIN:VEVENT
UID:188a9b7c-01b1-403d-9f05-e3be8733080b@www.cumberlandchapels.com
DTSTAMP:20260422T173629Z
DTSTART:20260425T153000Z
DTEND:20260425T170000Z
SUMMARY:Visitation
DESCRIPTION:
URL:https://www.cumberlandchapels.com/obituaries/emily-converso
LOCATION:Cumberland Chapels 8300 W Lawrence Ave  Norridge IL 60706
GEO:41.9669263;-87.8343298
END:VEVENT
END:VCALENDAR