BEGIN:VCALENDAR
VERSION:2.0
PRODID:-//Tukios.com/
BEGIN:VEVENT
UID:5c8a28cc-bd5e-44b8-bec7-e049ecda464a@www.cumberlandchapels.com
DTSTAMP:20260422T173113Z
DTSTART:20260425T180000Z
DTEND:20260425T181500Z
SUMMARY:Interment
DESCRIPTION:Prayers will take place outdoor at the gravesite.
URL:https://www.cumberlandchapels.com/obituaries/emily-converso
LOCATION: 3100 Thatcher Ave  River Grove IL 60171
GEO:41.9344976;-87.8360555
END:VEVENT
END:VCALENDAR