BEGIN:VCALENDAR
VERSION:2.0
PRODID:-//Tukios.com/
BEGIN:VEVENT
UID:0b699f2f-3cbf-429d-9396-f982b500daa1@www.cumberlandchapels.com
DTSTAMP:20260423T230307Z
DTSTART:20260428T161500Z
DTEND:20260428T171500Z
SUMMARY:Interment
DESCRIPTION:
URL:https://www.cumberlandchapels.com/obituaries/czeslawa-lendzion
LOCATION: 6800 N Milwaukee Ave  Niles IL 60714
GEO:42.0055578;-87.7962756
END:VEVENT
END:VCALENDAR