BEGIN:VCALENDAR
VERSION:2.0
PRODID:-//Tukios.com/
BEGIN:VEVENT
UID:36eed6f6-8ba8-4c62-8626-8cac68126b82@www.cumberlandchapels.com
DTSTAMP:20260423T230039Z
DTSTART:20260428T150000Z
DTEND:20260428T160000Z
SUMMARY:Mass
DESCRIPTION:
URL:https://www.cumberlandchapels.com/obituaries/czeslawa-lendzion
LOCATION:St. Constance Church (Mary, Undoer of Knots Parish) 5843 West 
	Strong Street  Chicago IL 60630
GEO:41.9698306;-87.7754877
END:VEVENT
END:VCALENDAR