BEGIN:VCALENDAR
VERSION:2.0
PRODID:-//Tukios.com/
BEGIN:VEVENT
UID:69f28bda-a98b-49c5-a4fd-e6efc9670140@www.cumberlandchapels.com
DTSTAMP:20260426T001434Z
DTSTART:20260429
SUMMARY:Burial
DESCRIPTION:
URL:https://www.cumberlandchapels.com/obituaries/bertha-arriaga
LOCATION: 7800 Irving Park Rd  Norridge IL 60706
GEO:41.9542986;-87.8236663
END:VEVENT
END:VCALENDAR