BEGIN:VCALENDAR
VERSION:2.0
PRODID:-//Tukios.com/
BEGIN:VEVENT
UID:41cc3dd9-0e66-45db-a924-febfc300ed9e@www.cumberlandchapels.com
DTSTAMP:20260426T001327Z
DTSTART:20260429T160000Z
DTEND:20260429T170000Z
SUMMARY:Funeral Service
DESCRIPTION:
URL:https://www.cumberlandchapels.com/obituaries/bertha-arriaga
LOCATION:Cumberland Chapels 8300 W Lawrence Ave  Norridge IL 60706
GEO:41.9669871;-87.8342895
END:VEVENT
END:VCALENDAR