BEGIN:VCALENDAR
VERSION:2.0
PRODID:-//Tukios.com/
BEGIN:VEVENT
UID:4053c190-d261-403a-9f97-861a12b544a5@www.cumberlandchapels.com
DTSTAMP:20260426T001311Z
DTSTART:20260428T200000Z
DTEND:20260429T010000Z
SUMMARY:Visitation
DESCRIPTION:
URL:https://www.cumberlandchapels.com/obituaries/bertha-arriaga
LOCATION:Cumberland Chapels 8300 W Lawrence Ave  Norridge IL 60706
GEO:41.9669871;-87.8342895
END:VEVENT
END:VCALENDAR