BEGIN:VCALENDAR
VERSION:2.0
PRODID:-//Tukios.com/
BEGIN:VEVENT
UID:851b2a65-0052-4bfb-9844-1c6a0cb8886e@www.cumberlandchapels.com
DTSTAMP:20260425T163755Z
DTSTART:20260429T171500Z
DTEND:20260429T174500Z
SUMMARY:Burial
DESCRIPTION:Prayers will take place outdoor at the gravesite.
URL:https://www.cumberlandchapels.com/obituaries/anne-walker
LOCATION: 7800 Irving Park Rd  Norridge IL 60706
GEO:41.9542986;-87.8236663
END:VEVENT
END:VCALENDAR