BEGIN:VCALENDAR
VERSION:2.0
PRODID:-//Tukios.com/
BEGIN:VEVENT
UID:bc04abe6-8f00-4b63-b230-cf2e22abf05b@www.cumberlandchapels.com
DTSTAMP:20260425T163802Z
DTSTART:20260429T163000Z
DTEND:20260429T173000Z
SUMMARY:Funeral Service
DESCRIPTION:
URL:https://www.cumberlandchapels.com/obituaries/anne-walker
LOCATION:Cumberland Chapels 8300 W Lawrence Ave  Norridge IL 60706
GEO:41.9669871;-87.8342895
END:VEVENT
END:VCALENDAR