BEGIN:VCALENDAR
VERSION:2.0
PRODID:-//Tukios.com/
BEGIN:VEVENT
UID:d4c74df5-74d0-4a41-9680-baf123ff5c7f@www.cumberlandchapels.com
DTSTAMP:20260425T163741Z
DTSTART:20260429T140000Z
DTEND:20260429T163000Z
SUMMARY:Visitation
DESCRIPTION:
URL:https://www.cumberlandchapels.com/obituaries/anne-walker
LOCATION:Cumberland Chapels 8300 W Lawrence Ave  Norridge IL 60706
GEO:41.9669871;-87.8342895
END:VEVENT
END:VCALENDAR